BEGIN:VCALENDAR
PRODID:-//eluceo/ical//2.0/EN
VERSION:2.0
CALSCALE:GREGORIAN
BEGIN:VEVENT
UID:4ecf0aa69f735da0e88db1ebd9b98024
DTSTAMP:20260421T032412Z
SUMMARY:Abracadabra and Much More!
DESCRIPTION:Jewish Federation of West-Central New Jersey\nCommunity Calenda
 r\nhttps://jfedwcnj.org/calendar/abracadabra-and-much-more-1551214830\n\n$
 60 per person/special rate for Nitzanim Parents: $50 per person. Must be 2
 1 years of age or older to attend.  This event is open to the public.  Spo
 nsorship is $218 and you get 2 tickets to the event\, 2 free drinks\, and 
 the opportunity to be part of the Magic!
DTSTART;TZID=America/New_York:20190309T191500
DTEND;TZID=America/New_York:20190309T220000
END:VEVENT
END:VCALENDAR
