BEGIN:VCALENDAR
PRODID:-//eluceo/ical//2.0/EN
VERSION:2.0
CALSCALE:GREGORIAN
BEGIN:VEVENT
UID:11d0f0a7d5d992b4832d1b5c62855e8c
DTSTAMP:20260421T204906Z
SUMMARY:A Virtual Guided Tour of Jerusalem's Temple Mount
DESCRIPTION:Jewish Federation of West-Central New Jersey\nCommunity Calenda
 r\nhttps://jfedwcnj.org/calendar/a-virtual-guided-tour-of-temple-mount\n\n
 Israeli Tour Guide Reuven Arye presents a virtual guided tour of Jerusalem
 's Temple Mount.\n\nThis CKI Adult Education program is being held via Zoo
 m. Please contact RSVP@ckibbnj.org to request the Zoom link.\n\nThis progr
 am is made possible by a grant from the Jewish Federation of Somerset\, Hu
 nterdon and Warren Counties.
DTSTART;TZID=America/New_York:20220227T120000
DTEND;TZID=America/New_York:20220227T140000
END:VEVENT
END:VCALENDAR
