BEGIN:VCALENDAR
PRODID:-//eluceo/ical//2.0/EN
VERSION:2.0
CALSCALE:GREGORIAN
BEGIN:VEVENT
UID:3d49a7197cab54552574be9e11a96673
DTSTAMP:20260421T235316Z
SUMMARY:A Virtual Golobal Celebration for Israel's 72nd Birthday
DESCRIPTION:Jewish Federation of West-Central New Jersey\nCommunity Calenda
 r\nhttps://jfedwcnj.org/calendar/a-virtual-golobal-celebration-for-israels
 -72nd-birthday\n\nJoin the Federation LIVE as we celebrate Israel with mus
 ic\,celebrity performances\,interactive activites and More!\n\n# JewishTog
 ether 
DTSTART;TZID=America/New_York:20200429T140000
DTEND;TZID=America/New_York:20200429T150000
END:VEVENT
END:VCALENDAR
