BEGIN:VCALENDAR
PRODID:-//eluceo/ical//2.0/EN
VERSION:2.0
CALSCALE:GREGORIAN
BEGIN:VEVENT
UID:ddbe151e205396f3445b68b25a8650cf
DTSTAMP:20260423T195932Z
SUMMARY:A Talk by Ruby Namdar\, Author of "The Ruined House"
DESCRIPTION:Jewish Federation of West-Central New Jersey\nCommunity Calenda
 r\nhttps://jfedwcnj.org/calendar/a-talk-by-ruby-namdar-author-of-the-ruine
 d-house-1526912893\n\nAcclaimed author Ruby Namdar will discuss his recent
  novel\, "The Ruined House\," winner of the Sapir Prize\, Israel's most pr
 estigious literary award. Namdar's first book\, "Haviv\," won the Ministry
  of Culture's Award for Best First Publication. The talk is free and open 
 to the public. Free parking is available. RSVP requested to rsvpBildner@sa
 s.rutgers.edu\, online at http://BildnerCenter.Rutgers.edu\, or by phone a
 t 848-932-2033.
DTSTART;TZID=America/New_York:20180927T193000
DTEND;TZID=America/New_York:20180927T210000
END:VEVENT
END:VCALENDAR
