BEGIN:VCALENDAR
PRODID:-//eluceo/ical//2.0/EN
VERSION:2.0
CALSCALE:GREGORIAN
BEGIN:VEVENT
UID:762a97bcac0dbc8b32aff49c79edcb04
DTSTAMP:20260422T032633Z
SUMMARY:A Special Evening with Steven Katz
DESCRIPTION:Jewish Federation of West-Central New Jersey\nCommunity Calenda
 r\nhttps://jfedwcnj.org/calendar/a-special-evening-with-steven-katz\n\nSte
 ve Katz is the founding member of the 1960’s band Blood\, Sweat and Tear
 s and has recently written his memoir about growing up Jewish in the world
  of 1960’s rock n roll. Steve has had quite the amazing life\, playing a
 t Woodstock\, partying with Jim Morrison\, Elizabeth Taylor and Groucho Ma
 rx\, conversed with Martin Luther King\, Jr. and Andy Warhol\, and jammed 
 with Jimi Hendrix
DTSTART;TZID=America/New_York:20201017T000000
DTEND;TZID=America/New_York:20201017T000000
END:VEVENT
END:VCALENDAR
