BEGIN:VCALENDAR
PRODID:-//eluceo/ical//2.0/EN
VERSION:2.0
CALSCALE:GREGORIAN
BEGIN:VEVENT
UID:e97dab455ac27c2422ad9f3b14e90c6c
DTSTAMP:20260424T164331Z
SUMMARY:A PASSION FOR ISRAEL – MARK WERNER
DESCRIPTION:Jewish Federation of West-Central New Jersey\nCommunity Calenda
 r\nhttps://jfedwcnj.org/calendar/a-passion-for-israel--mark-werner-1600356
 445\n\nWhat would motivate a successful corporate lawyer to trade in his c
 omfortable life in America for three weeks every year to volunteer for man
 ual labor on Israeli military bases? Mark Werner\, son of a Holocaust surv
 ivor\, is an ardent Zionist seeking a personal way to show support for Isr
 ael. Sar-el is an organization that enables thousands of volunteers from a
 ll over the world to work in a civilian capacity on Israeli military bases
 \, freeing up IDF soldiers for more serious duties. This book...
DTSTART;TZID=America/New_York:20201014T120000
DTEND;TZID=America/New_York:20201014T140000
END:VEVENT
END:VCALENDAR
