BEGIN:VCALENDAR
PRODID:-//eluceo/ical//2.0/EN
VERSION:2.0
CALSCALE:GREGORIAN
BEGIN:VEVENT
UID:9ee908968edc376a9bf2e331c04ce67c
DTSTAMP:20260423T223921Z
SUMMARY:A Night with Eric Fingerhut  (A Major Donor event\, by invitation o
 nly)
DESCRIPTION:Jewish Federation of West-Central New Jersey\nCommunity Calenda
 r\nhttps://jfedwcnj.org/calendar/a-night-with-eric-fingerhut-a-major-donor
 -event-by-invitation-only\n\nJoin Eric Fingerhut\, JFNA President and CEO 
 for a night of conversation on zoom. \n\n 
DTSTART;TZID=America/New_York:20201110T190000
DTEND;TZID=America/New_York:20201110T200000
END:VEVENT
END:VCALENDAR
