BEGIN:VCALENDAR
PRODID:-//eluceo/ical//2.0/EN
VERSION:2.0
CALSCALE:GREGORIAN
BEGIN:VEVENT
UID:e62c5c32369adb2a03dac017879cc9fe
DTSTAMP:20260422T061252Z
SUMMARY:A night with  Ambassador Dani Dayan\, Consul General of Israel in N
 ew York.
DESCRIPTION:Jewish Federation of West-Central New Jersey\nCommunity Calenda
 r\nhttps://jfedwcnj.org/calendar/a-night-with--ambassador-dani-dayan-consu
 l-general-of-israel-in-new-york-1592323328\n\nJoin the community of Somers
 et\, Hunterdon and Warren Counties for a night with  Ambassador Dani Dayan
 \, Consul General of Israel in New York.Topic: Israel and America:  Streng
 thening Our Relationship in a Changing World. Hosted by: Dr. Richard Agrin
  Tuesday June 16\, 2020\, 5-6pm
DTSTART;TZID=America/New_York:20200616T170000
DTEND;TZID=America/New_York:20200616T180000
END:VEVENT
END:VCALENDAR
