BEGIN:VCALENDAR
PRODID:-//eluceo/ical//2.0/EN
VERSION:2.0
CALSCALE:GREGORIAN
BEGIN:VEVENT
UID:c8df3e9a42ba70e3b391781f89e03fc2
DTSTAMP:20260422T005230Z
SUMMARY:A Night to Celebrate Israel
DESCRIPTION:Jewish Federation of West-Central New Jersey\nCommunity Calenda
 r\nhttps://jfedwcnj.org/calendar/a-night-to-celebrate-israel-1550687427\n\
 nThe 7th Annual Night to Celebrate Israel\n\nGuest Presenter\nGerald Ostro
 v\nInspiring\, Beautiful\, Innovative\, Israel\n\nHonoring\nLinda Bowden\,
  NJ Regional Presidents\, PNC Bank\nand\nElisheva Strauss\, Rutgers Hillel
  Student\n\nTo celebrate Our community's support of Israel Bonds and The S
 tate of Israel\n\nCouvert:\n$54/ Adult $18/Student
DTSTART;TZID=America/New_York:20190411T183000
DTEND;TZID=America/New_York:20190411T210000
END:VEVENT
END:VCALENDAR
