BEGIN:VCALENDAR
PRODID:-//eluceo/ical//2.0/EN
VERSION:2.0
CALSCALE:GREGORIAN
BEGIN:VEVENT
UID:e6cafcdeda25ffe2d75158d17cc738bf
DTSTAMP:20260420T223608Z
SUMMARY:A Night of Remembrance and Resilience: A Yom HaShoah Program
DESCRIPTION:Jewish Federation of West-Central New Jersey\nCommunity Calenda
 r\nhttps://jfedwcnj.org/calendar/a-night-of-remembrance-and-resilience-a-y
 om-hashoah-program\n\nA Night of Remembrance and Resilience: A Yom HaShoah
  Program\n\nJoin us for a powerful and moving evening as we honor the memo
 ry of the Holocaust and the strength of those who survived. Michelle Edgar
 \, Program Specialist for the Institute of Holocaust and Genocide Studies 
 at Raritan Valley Community College\, will share the remarkable story of h
 er grandmother\, Edith Israel.\n\nEdith was just 20 years old\, living in 
 Dillich\, Germany\, when Hitler rose to power—an event that altered the 
 course ...
DTSTART;TZID=America/New_York:20250423T190000
DTEND;TZID=America/New_York:20250423T203000
END:VEVENT
END:VCALENDAR
