BEGIN:VCALENDAR
PRODID:-//eluceo/ical//2.0/EN
VERSION:2.0
CALSCALE:GREGORIAN
BEGIN:VEVENT
UID:4eccbbdebb28e03e61f3cdd3193c6c64
DTSTAMP:20260422T022932Z
SUMMARY:A History of Jewish Name Changing in America
DESCRIPTION:Jewish Federation of West-Central New Jersey\nCommunity Calenda
 r\nhttps://jfedwcnj.org/calendar/a-history-of-jewish-name-changing-in-amer
 ica-1608744410\n\nJoin us as Dr. Kirsten Fermaglich (Michigan State Univer
 sity) discusses her book "A Rosenberg by Any Other Name" (NYU Press\, 2018
 )\, which examines Jewish name changing in twentieth-century America. This
  online talk is free and open to the public and will be held on the Zoom p
 latform.
DTSTART;TZID=America/New_York:20210114T190000
DTEND;TZID=America/New_York:20210114T200000
END:VEVENT
END:VCALENDAR
