BEGIN:VCALENDAR
PRODID:-//eluceo/ical//2.0/EN
VERSION:2.0
CALSCALE:GREGORIAN
BEGIN:VEVENT
UID:71ac488da5270b957657b8924f22fcb9
DTSTAMP:20260421T201144Z
SUMMARY:"A Green Chariot" -- Temple Beth-El Jewish Film Series: 
DESCRIPTION:Jewish Federation of West-Central New Jersey\nCommunity Calenda
 r\nhttps://jfedwcnj.org/calendar/a-green-chariot----temple-beth-el-jewish-
 film-series-1441758980\n\n&quot\;A Green Chariot&quot\; was chosen for scr
 eening during the High Holy Days for its themes of identity\, belonging\, 
 forgiveness and teshuvah.\n\nViewer comments include:\n&ldquo\;It&#039\;s 
 not how others see you\, but how we see ourselves that makes us who we are
  or are not.  I think that provides an infusion of hope that we can change
 \, move forward\, stretch\, without giving up all that we are.&rdquo\;\n
DTSTART;TZID=America/New_York:20150919T190000
DTEND;TZID=America/New_York:20150919T210000
END:VEVENT
END:VCALENDAR
