BEGIN:VCALENDAR
PRODID:-//eluceo/ical//2.0/EN
VERSION:2.0
CALSCALE:GREGORIAN
BEGIN:VEVENT
UID:6b64c2a443234b436d917c58d1ab9ad0
DTSTAMP:20260422T060601Z
SUMMARY:A fun-filled evening with Simcha Weinstein
DESCRIPTION:Jewish Federation of West-Central New Jersey\nCommunity Calenda
 r\nhttps://jfedwcnj.org/calendar/a-fun-filled-evening-with-simcha-weinstei
 n\n\n6:45 PM Services\, 7:30 Dinner & Speaker \n\nFee $18 adults\, $10 c
 hildren at the door ($15/$8 pre-paid)\n\nSimcha Weinstein is an internatio
 nally known speaker and the best-selling author of Up\, Up\, and Oy Vey: H
 ow Jewish History\, Culture\, and Values Shaped the Comic Book Superhero a
 nd Shtick Shift: Jewish Humor in the 21st Century. He has appeared on CNN 
 and NPR and has been profiled in leading publications\, including the New 
 York Times\, Miami Herald and London Guardian.
DTSTART;TZID=America/New_York:20180112T184500
DTEND;TZID=America/New_York:20180112T204500
END:VEVENT
END:VCALENDAR
