BEGIN:VCALENDAR
PRODID:-//eluceo/ical//2.0/EN
VERSION:2.0
CALSCALE:GREGORIAN
BEGIN:VEVENT
UID:80e0edf197dd637406de347f290dd152
DTSTAMP:20260422T033112Z
SUMMARY:A Day of Service  in honor of  Dr. Martin  Luther King Jr.
DESCRIPTION:Jewish Federation of West-Central New Jersey\nCommunity Calenda
 r\nhttps://jfedwcnj.org/calendar/a-day-of-service-in-honor-of--dr-martin--
 luther-king-jr\n\nA Day of Service in honor of Dr. Martin Luther King Jr.\
 n\n3 Ways to Participate:\n\n1) Volunteer to make food packages for at-ris
 k teens:\n\nJanuary 16\, 2023 6:30 pm\n\nFederation office: 775 Talamini R
 oad\, Bridgewater\, NJ \n\n2) Make a donation and let us do the food shop
 ping\n\n3) Order items form our Amazon Wish List\n\n \n\nFor questions: 
 Ledelman@jfedshaw.org or 908-758-2003
DTSTART;TZID=America/New_York:20230116T183000
DTEND;TZID=America/New_York:20230116T203000
END:VEVENT
END:VCALENDAR
