BEGIN:VCALENDAR
PRODID:-//eluceo/ical//2.0/EN
VERSION:2.0
CALSCALE:GREGORIAN
BEGIN:VEVENT
UID:122d8c545b0d6f1fa0d12462e4470fa8
DTSTAMP:20260423T091103Z
SUMMARY:A Conversation on Aging
DESCRIPTION:Jewish Federation of West-Central New Jersey\nCommunity Calenda
 r\nhttps://jfedwcnj.org/calendar/a-conversation-on-aging-1527166831\n\nPle
 ase join us for A Conversation on Aging: Navigating the Emotional\, Social
  and Financial Challenges that Affect You or Your Aging Parent.\n\n• How
  to tell when you or your parents need more help.\n• What senior living 
 options are available and are they the right fit?\n• The role of spiritu
 ality in senior living.\n• How to simplify your or your parent’s finan
 cial life.\n• What mistakes should you avoid when helping an aging paren
 t?\n• Are your estate papers in order?\n• Shoul...
DTSTART;TZID=America/New_York:20180607T173000
DTEND;TZID=America/New_York:20180607T193000
END:VEVENT
END:VCALENDAR
