BEGIN:VCALENDAR
PRODID:-//eluceo/ical//2.0/EN
VERSION:2.0
CALSCALE:GREGORIAN
BEGIN:VEVENT
UID:c73ea2faa3997540166131910c797d0d
DTSTAMP:20260423T164859Z
SUMMARY:Meet the Author: The Last Kings of Shanghai
DESCRIPTION:Jewish Federation of West-Central New Jersey\nCommunity Calenda
 r\nhttps://jfedwcnj.org/calendar/The-Last-Kings-of-Shanghai\n\nThe Last Ki
 ngs of Shanghai: The Rival Jewish Dynasties that Helped Create Modern Chin
 a by Jonathan Kaufman.  How two Jewish families stood astride Chinese bus
 iness and politics for more than 175 years from The Opium Wars to the Japa
 nese invasion and the beginnings of Communism.  \n\nA Meet the Author (Z
 oom) Event sponsored by The Moskovitz-Fellin Center Series. \n\nSunday Ja
 nuary 24 at noon \n\nRegister and info to buy the book: online: https://
 flemingtonjcc.org/events-archive/meet-the-...
DTSTART;TZID=America/New_York:20210124T120000
DTEND;TZID=America/New_York:20210124T140000
END:VEVENT
END:VCALENDAR
