BEGIN:VCALENDAR
PRODID:-//eluceo/ical//2.0/EN
VERSION:2.0
CALSCALE:GREGORIAN
BEGIN:VEVENT
UID:b7ea2f1e7f0bc3b24724e47c58967cd5
DTSTAMP:20260423T141627Z
SUMMARY:The History of Medicine and Drugs in New Jersey with Dr. Gary Grove
 r
DESCRIPTION:Jewish Federation of West-Central New Jersey\nCommunity Calenda
 r\nhttps://jfedwcnj.org/calendar/The-History-of-Medicine-and-Drugs\n\nThe 
 History of Medicine and Drugs in New Jersey with Dr. Gary Grover\n\nMonday
 \, April 7th \n\n7:00pm \n\n775 Talamini Road\, Bridgewater\, NJ \n\nSu
 ggested Donation $18 \n\nDonations for this event will be matched by the 
 Grover Foundation doubling the impact of your contribution! \n\n \n\nQue
 stions please contact Lauren Edelman at 908-758-2003 or ledelman@jfedwcnj
 .org\n\nSponsored in part by : Home Instead 
DTSTART;TZID=America/New_York:20250407T190000
DTEND;TZID=America/New_York:20250407T210000
END:VEVENT
END:VCALENDAR
