BEGIN:VCALENDAR
PRODID:-//eluceo/ical//2.0/EN
VERSION:2.0
CALSCALE:GREGORIAN
BEGIN:VEVENT
UID:f23ea0110818dc5c4df6c0a026779185
DTSTAMP:20260420T195024Z
SUMMARY:Dr. Michael Nissenblatt - Remember Your Grandparents
DESCRIPTION:Jewish Federation of West-Central New Jersey\nCommunity Calenda
 r\nhttps://jfedwcnj.org/calendar/MichaelNissenblatt\n\nThe Wilf Campus for
  Senior Living is holding a Zoom program with oncologist Dr. Michael Nisse
 nblatt – Remember Your Grandparents – on Sunday\, August 22 at 7:00 pm
 . Dr. Nissenblatt is board certified in internal medicine and medical onco
 logy and a Clinical Professor of Medicine at Rutgers Robert Wood Johnson M
 edical School\, New Brunswick\, NJ. In this presentation\, Dr. Nissenblatt
  will discuss the human predicament - that we are probably the only living
  things which can foresee our end. Giv...
DTSTART;TZID=America/New_York:20210822T190000
DTEND;TZID=America/New_York:20210822T200000
END:VEVENT
END:VCALENDAR
