BEGIN:VCALENDAR
PRODID:-//eluceo/ical//2.0/EN
VERSION:2.0
CALSCALE:GREGORIAN
BEGIN:VEVENT
UID:856ad172984e42ab7ed0040a5ec60c57
DTSTAMP:20260422T031736Z
SUMMARY:CRC Event: Escape From Room 18
DESCRIPTION:Jewish Federation of West-Central New Jersey\nCommunity Calenda
 r\nhttps://jfedwcnj.org/calendar/Escape\n\nMovie Viewing & Lecture\n\nWith
  special guest Daniel Brea\, Director\, Producer and Editor\n\nThe true st
 ory of John Daly\, an ex-neo Nazi who fled to Israel after his own gang ne
 arly killed him for being Jewish. On a mission to better themselves and ma
 ke amends for the past\, Daly and fellow ex-skinhead Kevin Connell meet in
  Prague to discover and see firsthand the effects of what they both practi
 ced and preached.
DTSTART;TZID=America/New_York:20180221T190000
DTEND;TZID=America/New_York:20180221T210000
END:VEVENT
END:VCALENDAR
