BEGIN:VCALENDAR
PRODID:-//eluceo/ical//2.0/EN
VERSION:2.0
CALSCALE:GREGORIAN
BEGIN:VEVENT
UID:a2ae50e226b3aaab6b82b473e6523f4d
DTSTAMP:20260423T201439Z
SUMMARY:Instagram Sensations...Crazy Jewish Mom
DESCRIPTION:Jewish Federation of West-Central New Jersey\nCommunity Calenda
 r\nhttps://jfedwcnj.org/calendar/Crazy-Jewish-Mom\n\nThere is nothing more
  wonderful than a mother’s love. There is also nothing more annoying. Wh
 o else can proudly insist that you’re perfect while simultaneously makin
 g you question every career\, fashion\, and relationship decision you have
  ever made? \n\nKim Friedman is an Emmy-nominated director of primetime t
 elevision\, including Beverly Hills 90210\, Star Trek Voyager and more. Sh
 e is also a distinguished theater director\, having received two Obie nomi
 nations and two LA Drama Critics Awar...
DTSTART;TZID=America/New_York:20170419T190000
DTEND;TZID=America/New_York:20170419T203000
END:VEVENT
END:VCALENDAR
