BEGIN:VCALENDAR
PRODID:-//eluceo/ical//2.0/EN
VERSION:2.0
CALSCALE:GREGORIAN
BEGIN:VEVENT
UID:d0f4775f5ec000371d5f675444c49761
DTSTAMP:20260421T022631Z
SUMMARY:A Conversation with Andrew Carroll Eyewitness Accounts of the Holoc
 aust
DESCRIPTION:Jewish Federation of West-Central New Jersey\nCommunity Calenda
 r\nhttps://jfedwcnj.org/calendar/Andrewcarrolleyewitnessaccountsoftheholoc
 austfromthelettersofamericantroops\n\nAndrew Carroll is the editor of seve
 ral New York Times bestsellers\, including Letters of a Nation\, Behind th
 e Lines\, and War Letters\, which inspired the critically acclaimed PBS do
 cumentary of the same name. Carroll is also the foundering director of the
  Center for American War Letters at Chapman University (www.WarLetters.us)
 .\n\nFor this talk\, Carroll will bring and discuss original letters writt
 en by U.S. service members from World War II who walked through the Nazi c
 oncentration camps and...
DTSTART;TZID=America/New_York:20180425T150000
DTEND;TZID=America/New_York:20180425T180000
END:VEVENT
END:VCALENDAR
