BEGIN:VCALENDAR
PRODID:-//eluceo/ical//2.0/EN
VERSION:2.0
CALSCALE:GREGORIAN
BEGIN:VEVENT
UID:cbfec28603485747911b8a3275b3752e
DTSTAMP:20260421T070940Z
SUMMARY:9th Annaul Auction Fundraiser
DESCRIPTION:Jewish Federation of West-Central New Jersey\nCommunity Calenda
 r\nhttps://jfedwcnj.org/calendar/9th-annaul-auction-fundraiser-1519232773\
 n\nJOIN US FOR OUR NINTH ANNUAL AUCTION\n\nOver $100\,000 worth of prizes 
 including Jewelery\, Electronics\, and the Grand Prize Private Jet Getaway
  for 6! www.mychabadauction.com\n\nCome join us for an evening of raffle\,
  gourmet tasting stations\, cocktails\, and entertainment!\n\nThere will b
 e an open bar and a performance by renowned comedian Harrison Greenbaum\, 
 as seen as a recent finalist on America's Got Talent\, NBC's Last Comic St
 anding\, Gothan Comedy Live\, and Nat Geo's Brain Games.\n\nProcee...
DTSTART;TZID=America/New_York:20180318T173000
DTEND;TZID=America/New_York:20180318T203000
END:VEVENT
END:VCALENDAR
