BEGIN:VCALENDAR
PRODID:-//eluceo/ical//2.0/EN
VERSION:2.0
CALSCALE:GREGORIAN
BEGIN:VEVENT
UID:c2a8268094b6bdc779286b2ae9b9eda8
DTSTAMP:20260426T021807Z
SUMMARY:90 Minute War - Film Event
DESCRIPTION:Jewish Federation of West-Central New Jersey\nCommunity Calenda
 r\nhttps://jfedwcnj.org/calendar/90-minute-war-film-event\n\nThe Israeli-P
 alestinian conflict has lasted 100 years. 100 years of war\, bloodshed\, b
 itterness\, suffering. 100 years of stalemate\, intransigence and failed p
 eace deals. And now\, it’s all over! They’ve finally found the solutio
 n: A game of soccer. The winner gets to stay. The loser leaves forever. An
 d no whining. In a deft feint\, Director Eyal Halfon’s satire has someth
 ing serious to say about the contested issues that divide two peoples. RSV
 P to Simona: bakerec@comcast.net\n\nSuggested ...
DTSTART;TZID=America/New_York:20191214T190000
DTEND;TZID=America/New_York:20191214T210000
END:VEVENT
END:VCALENDAR
