BEGIN:VCALENDAR
PRODID:-//eluceo/ical//2.0/EN
VERSION:2.0
CALSCALE:GREGORIAN
BEGIN:VEVENT
UID:3c89864bfaf877d072e044a9d204ea7b
DTSTAMP:20260422T135629Z
SUMMARY:90 Lessons for Living Large in 90 Square Feet (...or more)
DESCRIPTION:Jewish Federation of West-Central New Jersey\nCommunity Calenda
 r\nhttps://jfedwcnj.org/calendar/90-lessons-for-living-large-in-90-square-
 feet-or-more\n\nFee: $5 includes bagel\n\nHistapkut bamuat\, being content
  with less\, is considered a virtue in Jewish law. Felice Cohen would say 
 that living in 90 square feet makes her pretty virtuous. This inspirationa
 l self-help book shows how living small for five years made her life big. 
 It also offers lessons to help others downsize\, reorganize\, and realize 
 the life they want to live\, in whatever size space they choose.\n\nFelice
  Cohen is also the author of 90 Lessons for Living Large in 90 Square Feet
 ...
DTSTART;TZID=America/New_York:20170302T123000
DTEND;TZID=America/New_York:20170302T143000
END:VEVENT
END:VCALENDAR
