BEGIN:VCALENDAR
PRODID:-//eluceo/ical//2.0/EN
VERSION:2.0
CALSCALE:GREGORIAN
BEGIN:VEVENT
UID:d4819df41df5f8e763a23aa119d7e325
DTSTAMP:20260421T235751Z
SUMMARY:6th Annual Celebrate Israel Event- Change of date
DESCRIPTION:Jewish Federation of West-Central New Jersey\nCommunity Calenda
 r\nhttps://jfedwcnj.org/calendar/6th-annual-celebrate-israel-event--change
 -of-date-1521567710\n\nFee: $50/adults\; $18/student includes dinnerHonore
 es and Guest Speaker to be announced.
DTSTART;TZID=America/New_York:20180322T183000
DTEND;TZID=America/New_York:20180322T203000
END:VEVENT
END:VCALENDAR
