BEGIN:VCALENDAR
PRODID:-//eluceo/ical//2.0/EN
VERSION:2.0
CALSCALE:GREGORIAN
BEGIN:VEVENT
UID:052f437087046df98998bf1d7ebf9f0d
DTSTAMP:20260421T192447Z
SUMMARY:6th Annual Celebrate Israel Event -NEW DATE THURSDAY MARCH 22ND
DESCRIPTION:Jewish Federation of West-Central New Jersey\nCommunity Calenda
 r\nhttps://jfedwcnj.org/calendar/6th-annual-celebrate-israel-event\n\nThe 
 event will now be March 22nd \n\n \n\nFee: $50/adults\; $18/student incl
 udes dinner\n\nHonorees and Guest Speaker to be announced.
DTSTART;TZID=America/New_York:20180321T183000
DTEND;TZID=America/New_York:20180321T203000
END:VEVENT
END:VCALENDAR
