BEGIN:VCALENDAR
PRODID:-//eluceo/ical//2.0/EN
VERSION:2.0
CALSCALE:GREGORIAN
BEGIN:VEVENT
UID:db36fabc7ea8050c37d2c436dd2ef011
DTSTAMP:20260424T032434Z
SUMMARY:60th Diamond Anniversary Virtual Trivia
DESCRIPTION:Jewish Federation of West-Central New Jersey\nCommunity Calenda
 r\nhttps://jfedwcnj.org/calendar/60th-diamond-anniversary-virtual-trivia\n
 \nTake a break from the Olympics for fun & free family friendly competit
 ion!\n\nNo prior knowledge needed.\n\n \n\nSunday\, February 6\, 2022 - 4
 :00 PM - Via Zoom \n\n \n\nThis event is free and open to all\, with an 
 optional opportunity to make a contribution to our community in honor of 
 our 60th year!\n\n \n\nContributor Levels\n\nOlympian $36 \n\nBronze Med
 al $72 \n\nSilver Medal $180 \n\nGold Medal $360 \n\n \n\nAll contribu
 tions support the Federation’s 2022 Annual Community Ca...
DTSTART;TZID=America/New_York:20220206T160000
DTEND;TZID=America/New_York:20220206T173000
END:VEVENT
END:VCALENDAR
