BEGIN:VCALENDAR
PRODID:-//eluceo/ical//2.0/EN
VERSION:2.0
CALSCALE:GREGORIAN
BEGIN:VEVENT
UID:bd2ed6c4c5a6d3985bfe68814058e858
DTSTAMP:20260422T233749Z
SUMMARY:Federation 60th Anniversary Gala
DESCRIPTION:Jewish Federation of West-Central New Jersey\nCommunity Calenda
 r\nhttps://jfedwcnj.org/calendar/60th-anniversary-gala\n\n \n\n60th Diamo
 nd Anniversary Gala \n\n \n\n\n\n\n\nJoin us to celebrate 60 years of Fe
 deration \n\nsupporting and strengthening our Jewish community. \n\nLet's
  honor our past and \n\ncurrent presidents while celebrating our vibrant f
 uture!\n\n \n\n\n\n\n\nJune 2\, 2022 \n\n6:30 PM \n\n \n\nFlemington 
 Jewish Community Center  \n\n5 Sergeantsville Road\, Flemington\, NJ 088
 22\n\n \n\nCocktail Attire\n\n\n\n\n\nPlease kindly RSVP by May 11\, 2022
  \n\n\n\n \n\n\n\n\n\n\n\nCouve...
DTSTART;TZID=America/New_York:20220602T183000
DTEND;TZID=America/New_York:20220602T203000
END:VEVENT
END:VCALENDAR
