BEGIN:VCALENDAR
PRODID:-//eluceo/ical//2.0/EN
VERSION:2.0
CALSCALE:GREGORIAN
BEGIN:VEVENT
UID:a40fd172f04e84a91d24baf3165a8f16
DTSTAMP:20260420T223558Z
SUMMARY:5th Annual: A Night to Celebrate Israel
DESCRIPTION:Jewish Federation of West-Central New Jersey\nCommunity Calenda
 r\nhttps://jfedwcnj.org/calendar/5th-annual-a-night-to-celebrate-israel\n\
 nOur Community's Support of Israel and Bond Event\n\nEducate\, Celebrate &
  Enjoy Dinner!\n\nFee: $50/Adult\, $18/Student\n\n 
DTSTART;TZID=America/New_York:20170404T183000
DTEND;TZID=America/New_York:20170404T210000
END:VEVENT
END:VCALENDAR
