BEGIN:VCALENDAR
PRODID:-//eluceo/ical//2.0/EN
VERSION:2.0
CALSCALE:GREGORIAN
BEGIN:VEVENT
UID:b389bc499e5696b5d9d744f8764a7180
DTSTAMP:20260421T170337Z
SUMMARY:4th Annual\, A Night to Celebrate Israel: Our Community's Support o
 f Israel
DESCRIPTION:Jewish Federation of West-Central New Jersey\nCommunity Calenda
 r\nhttps://jfedwcnj.org/calendar/4th-annual-a-night-to-celebrate-israel-ou
 r-communitys-support-of-israel-1457991110\n\nEducate &amp\; Celebrate! Din
 ner &bull\; Speakers Honoring For their Dedication to Their Communities an
 d The State of Israel\nMarjorie &amp\; Jonathan Slass\, Rutgers Hillel Stu
 dent Evan Gottesman and  Special Remembrance of Rabbi Evan Jaffe\nDistingu
 ished Guest Speaker: Malcolm Hoenlein\, Executive Vice Chairman of the Con
 ference of Presidents of Major American Jewish Organizations.   He is the 
 founding executive director of the Greater New York Conference\non Soviet 
 Jewry and the Jewish Community Relations...
DTSTART;TZID=America/New_York:20160412T183000
DTEND;TZID=America/New_York:20160412T210000
END:VEVENT
END:VCALENDAR
