BEGIN:VCALENDAR
PRODID:-//eluceo/ical//2.0/EN
VERSION:2.0
CALSCALE:GREGORIAN
BEGIN:VEVENT
UID:12638eaa797cbb81225280483e47f09e
DTSTAMP:20260422T045038Z
SUMMARY:4 day Rummage Sale - Bound Brook
DESCRIPTION:Jewish Federation of West-Central New Jersey\nCommunity Calenda
 r\nhttps://jfedwcnj.org/calendar/4-day-rummage-sale---bound-brook-14600829
 74\n\nCongregation Knesseth Israel  (229 Mountain Avenue\, Bound Brook) wi
 ll hold their annual Rummage Sale over four days this May. The sale takes 
 place on Sunday\, May 8\, Thursday\, May 12\, Friday\, May 13\, & Sunday\,
  May 15\, from 8:00 am - 2:00 pm each day.  On Sunday\, May 15th\, startin
 g at 10:30 am\, shoppers can pay one low price for a bag or box and fill i
 t with all the items they choose.\n\nA wide variety of goods will be for s
 ale\, including both used and new items. The sale will be held Rain or...
DTSTART;TZID=America/New_York:20160508T080000
DTEND;TZID=America/New_York:20160515T140000
END:VEVENT
END:VCALENDAR
