BEGIN:VCALENDAR
PRODID:-//eluceo/ical//2.0/EN
VERSION:2.0
CALSCALE:GREGORIAN
BEGIN:VEVENT
UID:57322aa97ef97abf59cd57a61b998de8
DTSTAMP:20260421T081204Z
SUMMARY:3GNJ Roundtable Discussion
DESCRIPTION:Jewish Federation of West-Central New Jersey\nCommunity Calenda
 r\nhttps://jfedwcnj.org/calendar/3gnj-roundtable-discussion-1545065959\n\n
 The Third Generation Descendants of Holocaust Survivors are Gathering for 
 a Roundtable Discussion\n\nRefreshments will be served
DTSTART;TZID=America/New_York:20190123T190000
DTEND;TZID=America/New_York:20190123T210000
END:VEVENT
END:VCALENDAR
