BEGIN:VCALENDAR
PRODID:-//eluceo/ical//2.0/EN
VERSION:2.0
CALSCALE:GREGORIAN
BEGIN:VEVENT
UID:e00582b976d901190dfb9e442d6dbb45
DTSTAMP:20260423T182334Z
SUMMARY:3GNJ HAPPY HOUR at the Green Knoll Grille!
DESCRIPTION:Jewish Federation of West-Central New Jersey\nCommunity Calenda
 r\nhttps://jfedwcnj.org/calendar/3gnj-happy-hour-at-the-green-knoll-grille
 -1657660647\n\n3GNJ Happy Hour! 3Gs\, join us for an evening of conversati
 on and fun at The Green Knoll Grille 645 US 202 Bridgewater. Please RSVP t
 o 3GNewJersey@gmail.com
DTSTART;TZID=America/New_York:20220714T190000
DTEND;TZID=America/New_York:20220714T203000
END:VEVENT
END:VCALENDAR
