BEGIN:VCALENDAR
PRODID:-//eluceo/ical//2.0/EN
VERSION:2.0
CALSCALE:GREGORIAN
BEGIN:VEVENT
UID:a8b545b6c6ece35b21fd20c2b9d2f19f
DTSTAMP:20260421T173731Z
SUMMARY:2nd Annual JCC Special Needs Symposium
DESCRIPTION:Jewish Federation of West-Central New Jersey\nCommunity Calenda
 r\nhttps://jfedwcnj.org/calendar/2nd-annual-jcc-special-needs-symposium-15
 03680196\n\nSpecial Needs programs are designed to 2nd Annual provide soci
 al\, educational and recreational choices for children and adults with Spe
 cial Needs. Program opportunities improve quality of life\, enhance physic
 al well-being\,\nsocial and emotional development\, cultivate friendships 
 and provide opportunities to integrate into the community. The JCC believe
 s all communities should open their hearts and doors to everyone regardles
 s of race\, gender or religious affiliation.\n\n \n\nFor more informa...
DTSTART;TZID=America/New_York:20171022T083000
DTEND;TZID=America/New_York:20171022T130000
END:VEVENT
END:VCALENDAR
