BEGIN:VCALENDAR
PRODID:-//eluceo/ical//2.0/EN
VERSION:2.0
CALSCALE:GREGORIAN
BEGIN:VEVENT
UID:d32185c6d187ba26f799a1fe00e2b285
DTSTAMP:20260422T000520Z
SUMMARY:23rd Annual Rutgers Jewish Film Festival
DESCRIPTION:Jewish Federation of West-Central New Jersey\nCommunity Calenda
 r\nhttps://jfedwcnj.org/calendar/23rd-annual-rutgers-jewish-film-festival-
 1659048020\n\nThe Rutgers Jewish Film Festival features award-winning inte
 rnational films and engaging discussions with filmmakers and special guest
 s. For more than twenty years\, the festival has brought our diverse commu
 nity together for thought-provoking and entertaining cinema\, offering new
  perspectives on Israeli society\, Jews around the world\, the Holocaust\,
  and Jewish identity.
DTSTART;TZID=America/New_York:20221030T120000
DTEND;TZID=America/New_York:20221113T230000
END:VEVENT
END:VCALENDAR
