BEGIN:VCALENDAR
PRODID:-//eluceo/ical//2.0/EN
VERSION:2.0
CALSCALE:GREGORIAN
BEGIN:VEVENT
UID:6c050c0bedfae63e6b2eb212b750e6e0
DTSTAMP:20260422T000510Z
SUMMARY:20th Annual Rutgers Jewish Film Festival
DESCRIPTION:Jewish Federation of West-Central New Jersey\nCommunity Calenda
 r\nhttps://jfedwcnj.org/calendar/20th-annual-rutgers-jewish-film-festival-
 1570124665\n\nJoin us for the 20th Annual Rutgers Jewish Film Festival as 
 we celebrate twenty years of Jewish history\, culture\, and identity with 
 eighteen film screenings in three venues across New Jersey! The festival f
 eatures award-winning international films.\n\nThe festival begins November
  3 and continues through November 17 on select days at the following locat
 ions:\n\nNew Brunswick Performing Arts Center (NBPAC)\nAMC New Brunswick\n
 The Princeton Garden Theatre\n\nThe complete film schedule and inform...
DTSTART;TZID=America/New_York:20191103T000000
DTEND;TZID=America/New_York:20191117T000000
END:VEVENT
END:VCALENDAR
