BEGIN:VCALENDAR
PRODID:-//eluceo/ical//2.0/EN
VERSION:2.0
CALSCALE:GREGORIAN
BEGIN:VEVENT
UID:ce30ccb5fa16210321e212970bb9b1fe
DTSTAMP:20260425T112939Z
SUMMARY:2024 Federation Super Sunday
DESCRIPTION:Jewish Federation of West-Central New Jersey\nCommunity Calenda
 r\nhttps://jfedwcnj.org/calendar/2024-Federation-Super-Sunday\n\nSuper Sun
 day 
DTSTART;TZID=America/New_York:20241103T090000
DTEND;TZID=America/New_York:20241103T150000
END:VEVENT
END:VCALENDAR
