BEGIN:VCALENDAR
PRODID:-//eluceo/ical//2.0/EN
VERSION:2.0
CALSCALE:GREGORIAN
BEGIN:VEVENT
UID:7607338c17a1a06f080d3d941c2c40d1
DTSTAMP:20260424T060333Z
SUMMARY:Federation Super Sunday
DESCRIPTION:Jewish Federation of West-Central New Jersey\nCommunity Calenda
 r\nhttps://jfedwcnj.org/calendar/2023federation-super-sunday\n\nSave the d
 ate ... More information coming soon 
DTSTART;TZID=America/New_York:20231105T090000
DTEND;TZID=America/New_York:20231105T150000
END:VEVENT
END:VCALENDAR
