BEGIN:VCALENDAR
PRODID:-//eluceo/ical//2.0/EN
VERSION:2.0
CALSCALE:GREGORIAN
BEGIN:VEVENT
UID:d705f3658e77d40396680a26d813acde
DTSTAMP:20260422T000540Z
SUMMARY:2022 Online Summer Book Series
DESCRIPTION:Jewish Federation of West-Central New Jersey\nCommunity Calenda
 r\nhttps://jfedwcnj.org/calendar/2022-online-summer-book-series\n\nJoin us
  for our Summer Book Series on Zoom as we explore the past while discussin
 g award-winning novels. Friday\, July 15\, 2022\, 10-11 am\, we are delvin
 g into The Map of Salt and Stars by Jennifer Zeynab Joukhadar. In 2011\, t
 he peace of the Syrian city of Homs was disturbed by protests and shelling
 . In The Map of Salt & Stars\, the tales of two heroines coming of age in 
 perilous times interweave. This novel shines a light on a country in turmo
 il\, highlighting human resilience and the power of s...
DTSTART;TZID=America/New_York:20220715T100000
DTEND;TZID=America/New_York:20220715T110000
END:VEVENT
END:VCALENDAR
