BEGIN:VCALENDAR
PRODID:-//eluceo/ical//2.0/EN
VERSION:2.0
CALSCALE:GREGORIAN
BEGIN:VEVENT
UID:8f702560efef074f2875ec38ebb55d7b
DTSTAMP:20260421T010021Z
SUMMARY:2022 Annual Meeting of the Jewish Federation and JCC
DESCRIPTION:Jewish Federation of West-Central New Jersey\nCommunity Calenda
 r\nhttps://jfedwcnj.org/calendar/2022-annual-meeting-of-the-jewish-federat
 ion-and-jcc\n\nSave the date for the joint annual meeting of the Jewish Fe
 deration and JCC
DTSTART;TZID=America/New_York:20220525T183000
DTEND;TZID=America/New_York:20220525T210000
END:VEVENT
END:VCALENDAR
