BEGIN:VCALENDAR
PRODID:-//eluceo/ical//2.0/EN
VERSION:2.0
CALSCALE:GREGORIAN
BEGIN:VEVENT
UID:6b595a0ccf316b75f13af99dc3bfd55c
DTSTAMP:20260422T065259Z
SUMMARY:Jewish LIFE: 50th Anniversary of Six Day War Pt 2 with Yehuda Kurtz
 er
DESCRIPTION:Jewish Federation of West-Central New Jersey\nCommunity Calenda
 r\nhttps://jfedwcnj.org/calendar/2-part-lecture-series-on-the-50th-anniver
 sary-of-the-6-day-war-1472490075\n\nWe will have Yehuda Kurtzer on Thursda
 y evening\, April 20\, on the impact of the 6 Day War on American Jewry\, 
 then and now.\n\n 
DTSTART;TZID=America/New_York:20170420T190000
DTEND;TZID=America/New_York:20170420T210000
END:VEVENT
END:VCALENDAR
