BEGIN:VCALENDAR
PRODID:-//eluceo/ical//2.0/EN
VERSION:2.0
CALSCALE:GREGORIAN
BEGIN:VEVENT
UID:8c66246b1d899e9d0b97ede998075004
DTSTAMP:20260421T070819Z
SUMMARY:1st Annual Kiddush Cup Open
DESCRIPTION:Jewish Federation of West-Central New Jersey\nCommunity Calenda
 r\nhttps://jfedwcnj.org/calendar/1st-annual-kiddush-cup-open-1716919584\n\
 nA golf outing fundraiser\n\nFoursome is $600\nSingle player is $175\nIncl
 udes breakfast\, lunch\, and prizes\n\nFox Hollow Country Club\, Branchbur
 g\n\nAll proceeds benefit the Education Department at Temple Sholom\n\nSig
 n up now\, pay by September 1st\n\nContact Jason Weinstein to sign up or f
 or more information: jasdonw@hotmail.com
DTSTART;TZID=America/New_York:20240926T100000
DTEND;TZID=America/New_York:20240926T140000
END:VEVENT
END:VCALENDAR
