BEGIN:VCALENDAR
PRODID:-//eluceo/ical//2.0/EN
VERSION:2.0
CALSCALE:GREGORIAN
BEGIN:VEVENT
UID:327d8fc6202c28017dee70ed3bb0932b
DTSTAMP:20260420T163953Z
SUMMARY:18th Annual Golf & Tennis Outing
DESCRIPTION:Jewish Federation of West-Central New Jersey\nCommunity Calenda
 r\nhttps://jfedwcnj.org/calendar/18th-annual-golf--tennis-outing-155509328
 2\n\nGolf Registration: \n- Early Bird rate $325 valid through May 1.\n- R
 egular rate $350 after May 1.\n- Rain date: Monday\, July 22.\n\nTennis Re
 gistration:\n- Early Bird rate $185 valid through May 1.\n- Regular rate $
 200 after May 1.\n- Rain date: Monday\, July 22.\n\nSPONSORSHIP OPPORTUNIT
 IES\nAll Golf & Tennis Outing sponsors will be listed on event signage\, e
 vent program at the Dinner/Awards Ceremony\, and will be listed on the JCC
 ’s Golf & Tennis web page.  Sponsors of $1\,000 or more will...
DTSTART;TZID=America/New_York:20190603T103000
DTEND;TZID=America/New_York:20190603T193000
END:VEVENT
END:VCALENDAR
