BEGIN:VCALENDAR
PRODID:-//eluceo/ical//2.0/EN
VERSION:2.0
CALSCALE:GREGORIAN
BEGIN:VEVENT
UID:84b9e8f18efdb69e453b0d92fed43a9f
DTSTAMP:20260422T092119Z
SUMMARY:10 Questions for Henry Ford
DESCRIPTION:Jewish Federation of West-Central New Jersey\nCommunity Calenda
 r\nhttps://jfedwcnj.org/calendar/10-questions-for-henry-ford-1705574060\n\
 nDiscounted Member FEE : $20.00 Fee: $25.00INCLUDES FALAFEL DINNER The Irm
 a Horowitz Film Festival is supported by the Irma Horowitz Endowment Fund.
  In the early 1920’s\, Henry Ford published a series of inflammatory ant
 i-Semitic articles through his personal newspaper\, The Dearborn Independe
 nt. Blaming Jews for everything from World War I and economic depression t
 o short skirts and the corrupting influence of Jazz\, Ford’s publication
 s quickly spread around the world – and to Germany\, whe...
DTSTART;TZID=America/New_York:20240221T183000
DTEND;TZID=America/New_York:20240221T203000
END:VEVENT
END:VCALENDAR
