BEGIN:VCALENDAR
PRODID:-//eluceo/ical//2.0/EN
VERSION:2.0
CALSCALE:GREGORIAN
BEGIN:VEVENT
UID:e515669e935312f1770e821c24f44fac
DTSTAMP:20260422T131450Z
SUMMARY:1 Wild Night- Bon Jovi Tribute Band
DESCRIPTION:Jewish Federation of West-Central New Jersey\nCommunity Calenda
 r\nhttps://jfedwcnj.org/calendar/1-wild-night--bon-jovi-tribute-band-15282
 98864\n\nBring your beach chair and get ready to rock and roll with 1 Wild
  Night a Bon Jovi Tribute Band at our Summer Swim Club.\n\n6:00 pm Tailgat
 ing\, Bring your own Food and Drinks.\n7:00 pm Doors Open.\n7:30 pm Concer
 t.\n \n\nFee in Advance: Member $25\; Non-member $30\nAt Door $30.\n\nIn 
 the event of rain\, the concert will be held indoors.
DTSTART;TZID=America/New_York:20180714T180000
DTEND;TZID=America/New_York:20180714T220000
END:VEVENT
END:VCALENDAR
