BEGIN:VCALENDAR
PRODID:-//eluceo/ical//2.0/EN
VERSION:2.0
CALSCALE:GREGORIAN
BEGIN:VEVENT
UID:7430f68709bfe0818017b83c95e6e87d
DTSTAMP:20260422T031619Z
SUMMARY:September Jewish Federation Board Meeting
DESCRIPTION:Jewish Federation of West-Central New Jersey\nBoard Meeting Sch
 edule\nhttps://jfedwcnj.org/board-meeting-schedule/september-jewish-federa
 tion-board-meeting-157055\n\nSeptember Jewish Federation Board Meeting
DTSTART;TZID=America/New_York:20150916T183000
DTEND;TZID=America/New_York:20150916T210000
END:VEVENT
END:VCALENDAR
