BEGIN:VCALENDAR
PRODID:-//eluceo/ical//2.0/EN
VERSION:2.0
CALSCALE:GREGORIAN
BEGIN:VEVENT
UID:4680de0972978c863a8f0f27e05a557e
DTSTAMP:20260422T100359Z
SUMMARY:Learning From the Struggles of Racial Injustice Both Here & Abroad
DESCRIPTION:Jewish Federation of West-Central New Jersey\nBoard Meeting Sch
 edule\nhttps://jfedwcnj.org/board-meeting-schedule/learning-from-the-strug
 gles-of-racial-injustice-both-here-abroad2\n\nHosted by the Institute of H
 olocaust and Genocide Studies at Raritan Valley Community College. Thursd
 ay\, September 17th at 10 - 11 AM\, we will hear from Antoinette Sithole
  speaking to us from South Africa about the difficulties she faced growin
 g up during apartheid\, the impact of losing her brother\, and the work sh
 e is doing to educate and inform people today. To register\, email Michel
 le.Edgar@Raritanval.edu\n\n \n\nThis program is being co-sponsored by The
  Jewish Federation of Somerset\,...
DTSTART;TZID=America/New_York:20200917T100000
DTEND;TZID=America/New_York:20200917T110000
END:VEVENT
END:VCALENDAR
