BEGIN:VCALENDAR
PRODID:-//eluceo/ical//2.0/EN
VERSION:2.0
CALSCALE:GREGORIAN
BEGIN:VEVENT
UID:df9022b12c6c3005d2dd1a39d6b118c0
DTSTAMP:20260423T200023Z
SUMMARY:December Jewish Federation Board Meeting
DESCRIPTION:Jewish Federation of West-Central New Jersey\nBoard Meeting Sch
 edule\nhttps://jfedwcnj.org/board-meeting-schedule/december-jewish-federat
 ion-board-meeting-157067\n\nDecember Jewish Federation Board Meeting
DTSTART;TZID=America/New_York:20151215T183000
DTEND;TZID=America/New_York:20151215T210000
END:VEVENT
END:VCALENDAR
