BEGIN:VCALENDAR
PRODID:-//eluceo/ical//2.0/EN
VERSION:2.0
CALSCALE:GREGORIAN
BEGIN:VEVENT
UID:e2eaaa600a596290bc777b328d11809a
DTSTAMP:20260421T072759Z
SUMMARY:Crossing the Line 2: The New Face of Anti-Semitism on Campus
DESCRIPTION:Jewish Federation of West-Central New Jersey\nBoard Meeting Sch
 edule\nhttps://jfedwcnj.org/board-meeting-schedule/crossing-the-line-2-the
 -new-face-of-anti-semitism-on-campus-144044\n\nSpecial Guest Speaker:  SG
 T. Benjamin Anthony\, a retired combat veteran of the Israeli Defense Forc
 e\, will discuss his journey as a soldier and the evolving military diplom
 atic ties between the US and Israel.\n\n \n\nCrossing the Line 2 will tak
 e an in depth look into how criticism of Israel "Crosses the Line" into an
 ti-Semitism and how the rise of this rhetoric has grown on North American 
 campuses across the nation.\n\n \n\nThe event is sponsored by StandWithUS
 \, Rutgers Hillel\, and Hasbar...
DTSTART;TZID=America/New_York:20150517T163000
DTEND;TZID=America/New_York:20150517T180000
END:VEVENT
END:VCALENDAR
