BEGIN:VCALENDAR
PRODID:-//eluceo/ical//2.0/EN
VERSION:2.0
CALSCALE:GREGORIAN
BEGIN:VEVENT
UID:9641778c4093811e6ebd788858a64a93
DTSTAMP:20260423T200115Z
SUMMARY:April Jewish Federation Board Meeting
DESCRIPTION:Jewish Federation of West-Central New Jersey\nBoard Meeting Sch
 edule\nhttps://jfedwcnj.org/board-meeting-schedule/april-jewish-federation
 -board-meeting-157078\n\nApril Jewish Federation Board Meeting
DTSTART;TZID=America/New_York:20160419T183000
DTEND;TZID=America/New_York:20160419T210000
END:VEVENT
END:VCALENDAR
